BEGIN:VCALENDAR
VERSION:2.0
PRODID:-//AA District 16 - ECPv6.15.20//NONSGML v1.0//EN
CALSCALE:GREGORIAN
METHOD:PUBLISH
X-WR-CALNAME:AA District 16
X-ORIGINAL-URL:https://medfordareaaa.org
X-WR-CALDESC:Events for AA District 16
REFRESH-INTERVAL;VALUE=DURATION:PT1H
X-Robots-Tag:noindex
X-PUBLISHED-TTL:PT1H
BEGIN:VTIMEZONE
TZID:America/Los_Angeles
BEGIN:DAYLIGHT
TZOFFSETFROM:-0800
TZOFFSETTO:-0700
TZNAME:PDT
DTSTART:20250309T100000
END:DAYLIGHT
BEGIN:STANDARD
TZOFFSETFROM:-0700
TZOFFSETTO:-0800
TZNAME:PST
DTSTART:20251102T090000
END:STANDARD
BEGIN:DAYLIGHT
TZOFFSETFROM:-0800
TZOFFSETTO:-0700
TZNAME:PDT
DTSTART:20260308T100000
END:DAYLIGHT
BEGIN:STANDARD
TZOFFSETFROM:-0700
TZOFFSETTO:-0800
TZNAME:PST
DTSTART:20261101T090000
END:STANDARD
BEGIN:DAYLIGHT
TZOFFSETFROM:-0800
TZOFFSETTO:-0700
TZNAME:PDT
DTSTART:20270314T100000
END:DAYLIGHT
BEGIN:STANDARD
TZOFFSETFROM:-0700
TZOFFSETTO:-0800
TZNAME:PST
DTSTART:20271107T090000
END:STANDARD
END:VTIMEZONE
BEGIN:VEVENT
DTSTART;TZID=America/Los_Angeles:20260421T140000
DTEND;TZID=America/Los_Angeles:20260421T150000
DTSTAMP:20260421T025622
CREATED:20260320T130427Z
LAST-MODIFIED:20260320T130436Z
UID:18845-1776780000-1776783600@medfordareaaa.org
SUMMARY:District 16 Events Committee Meeting
DESCRIPTION:Assigning service positions and volunteer roles to organize the May picnic.
URL:https://medfordareaaa.org/event/district-16-events-committee-meeting/
LOCATION:Jackson County Central Office\, 116 E. 6th St.\, Medford\, Oregon\, 97501\, United States
END:VEVENT
END:VCALENDAR